BEGIN:VCALENDAR
VERSION:2.0
PRODID:-//First Colony CSA - ECPv6.15.20//NONSGML v1.0//EN
CALSCALE:GREGORIAN
METHOD:PUBLISH
X-WR-CALNAME:First Colony CSA
X-ORIGINAL-URL:https://www.firstcolony.org
X-WR-CALDESC:Events for First Colony CSA
REFRESH-INTERVAL;VALUE=DURATION:PT1H
X-Robots-Tag:noindex
X-PUBLISHED-TTL:PT1H
BEGIN:VTIMEZONE
TZID:America/Chicago
BEGIN:DAYLIGHT
TZOFFSETFROM:-0600
TZOFFSETTO:-0500
TZNAME:CDT
DTSTART:20270314T080000
END:DAYLIGHT
BEGIN:STANDARD
TZOFFSETFROM:-0500
TZOFFSETTO:-0600
TZNAME:CST
DTSTART:20271107T070000
END:STANDARD
BEGIN:DAYLIGHT
TZOFFSETFROM:-0600
TZOFFSETTO:-0500
TZNAME:CDT
DTSTART:20280312T080000
END:DAYLIGHT
BEGIN:STANDARD
TZOFFSETFROM:-0500
TZOFFSETTO:-0600
TZNAME:CST
DTSTART:20281105T070000
END:STANDARD
BEGIN:DAYLIGHT
TZOFFSETFROM:-0600
TZOFFSETTO:-0500
TZNAME:CDT
DTSTART:20290311T080000
END:DAYLIGHT
BEGIN:STANDARD
TZOFFSETFROM:-0500
TZOFFSETTO:-0600
TZNAME:CST
DTSTART:20291104T070000
END:STANDARD
BEGIN:DAYLIGHT
TZOFFSETFROM:-0600
TZOFFSETTO:-0500
TZNAME:CDT
DTSTART:20300310T080000
END:DAYLIGHT
BEGIN:STANDARD
TZOFFSETFROM:-0500
TZOFFSETTO:-0600
TZNAME:CST
DTSTART:20301103T070000
END:STANDARD
END:VTIMEZONE
BEGIN:VEVENT
DTSTART;TZID=America/Chicago:20280824T180000
DTEND;TZID=America/Chicago:20280824T190000
DTSTAMP:20260421T120150
CREATED:20260410T163812Z
LAST-MODIFIED:20260410T163812Z
UID:10000545-1850752800-1850756400@www.firstcolony.org
SUMMARY:Board Meeting
DESCRIPTION:Monthly Board Meeting
URL:https://www.firstcolony.org/event/board-meeting/2028-08-24/
LOCATION:RE/MAX Fine Properties – 3616 Hwy 6\, Sugar Land\, TX 77478\, 3616 Hwy 6\, Sugarland\, 77478\, United States
CATEGORIES:Community
ORGANIZER;CN="FCCSA":MAILTO:info@firstcolony.org
END:VEVENT
BEGIN:VEVENT
DTSTART;TZID=America/Chicago:20280912T170000
DTEND;TZID=America/Chicago:20280912T180000
DTSTAMP:20260421T120150
CREATED:20260410T163954Z
LAST-MODIFIED:20260410T163954Z
UID:10000606-1852390800-1852394400@www.firstcolony.org
SUMMARY:Special Board Meeting
DESCRIPTION:Special Board Meeting via Zoom
URL:https://www.firstcolony.org/event/special-board-meeting/2028-09-12/
LOCATION:TX
CATEGORIES:Community
ORGANIZER;CN="FCCSA":MAILTO:info@firstcolony.org
END:VEVENT
BEGIN:VEVENT
DTSTART;TZID=America/Chicago:20280928T180000
DTEND;TZID=America/Chicago:20280928T190000
DTSTAMP:20260421T120150
CREATED:20260410T163812Z
LAST-MODIFIED:20260410T163812Z
UID:10000546-1853776800-1853780400@www.firstcolony.org
SUMMARY:Board Meeting
DESCRIPTION:Monthly Board Meeting
URL:https://www.firstcolony.org/event/board-meeting/2028-09-28/
LOCATION:RE/MAX Fine Properties – 3616 Hwy 6\, Sugar Land\, TX 77478\, 3616 Hwy 6\, Sugarland\, 77478\, United States
CATEGORIES:Community
ORGANIZER;CN="FCCSA":MAILTO:info@firstcolony.org
END:VEVENT
BEGIN:VEVENT
DTSTART;TZID=America/Chicago:20281010T170000
DTEND;TZID=America/Chicago:20281010T180000
DTSTAMP:20260421T120150
CREATED:20260410T163954Z
LAST-MODIFIED:20260410T163954Z
UID:10000607-1854810000-1854813600@www.firstcolony.org
SUMMARY:Special Board Meeting
DESCRIPTION:Special Board Meeting via Zoom
URL:https://www.firstcolony.org/event/special-board-meeting/2028-10-10/
LOCATION:TX
CATEGORIES:Community
ORGANIZER;CN="FCCSA":MAILTO:info@firstcolony.org
END:VEVENT
BEGIN:VEVENT
DTSTART;TZID=America/Chicago:20281026T180000
DTEND;TZID=America/Chicago:20281026T190000
DTSTAMP:20260421T120150
CREATED:20260410T163812Z
LAST-MODIFIED:20260410T163812Z
UID:10000547-1856196000-1856199600@www.firstcolony.org
SUMMARY:Board Meeting
DESCRIPTION:Monthly Board Meeting
URL:https://www.firstcolony.org/event/board-meeting/2028-10-26/
LOCATION:RE/MAX Fine Properties – 3616 Hwy 6\, Sugar Land\, TX 77478\, 3616 Hwy 6\, Sugarland\, 77478\, United States
CATEGORIES:Community
ORGANIZER;CN="FCCSA":MAILTO:info@firstcolony.org
END:VEVENT
BEGIN:VEVENT
DTSTART;TZID=America/Chicago:20281114T170000
DTEND;TZID=America/Chicago:20281114T180000
DTSTAMP:20260421T120150
CREATED:20260410T163954Z
LAST-MODIFIED:20260410T163954Z
UID:10000608-1857834000-1857837600@www.firstcolony.org
SUMMARY:Special Board Meeting
DESCRIPTION:Special Board Meeting via Zoom
URL:https://www.firstcolony.org/event/special-board-meeting/2028-11-14/
LOCATION:TX
CATEGORIES:Community
ORGANIZER;CN="FCCSA":MAILTO:info@firstcolony.org
END:VEVENT
BEGIN:VEVENT
DTSTART;TZID=America/Chicago:20281123T180000
DTEND;TZID=America/Chicago:20281123T190000
DTSTAMP:20260421T120150
CREATED:20260410T163812Z
LAST-MODIFIED:20260410T163812Z
UID:10000548-1858615200-1858618800@www.firstcolony.org
SUMMARY:Board Meeting
DESCRIPTION:Monthly Board Meeting
URL:https://www.firstcolony.org/event/board-meeting/2028-11-23/
LOCATION:RE/MAX Fine Properties – 3616 Hwy 6\, Sugar Land\, TX 77478\, 3616 Hwy 6\, Sugarland\, 77478\, United States
CATEGORIES:Community
ORGANIZER;CN="FCCSA":MAILTO:info@firstcolony.org
END:VEVENT
BEGIN:VEVENT
DTSTART;TZID=America/Chicago:20281212T170000
DTEND;TZID=America/Chicago:20281212T180000
DTSTAMP:20260421T120150
CREATED:20260410T163954Z
LAST-MODIFIED:20260410T163954Z
UID:10000609-1860253200-1860256800@www.firstcolony.org
SUMMARY:Special Board Meeting
DESCRIPTION:Special Board Meeting via Zoom
URL:https://www.firstcolony.org/event/special-board-meeting/2028-12-12/
LOCATION:TX
CATEGORIES:Community
ORGANIZER;CN="FCCSA":MAILTO:info@firstcolony.org
END:VEVENT
BEGIN:VEVENT
DTSTART;TZID=America/Chicago:20281228T180000
DTEND;TZID=America/Chicago:20281228T190000
DTSTAMP:20260421T120150
CREATED:20260410T163812Z
LAST-MODIFIED:20260410T163812Z
UID:10000549-1861639200-1861642800@www.firstcolony.org
SUMMARY:Board Meeting
DESCRIPTION:Monthly Board Meeting
URL:https://www.firstcolony.org/event/board-meeting/2028-12-28/
LOCATION:RE/MAX Fine Properties – 3616 Hwy 6\, Sugar Land\, TX 77478\, 3616 Hwy 6\, Sugarland\, 77478\, United States
CATEGORIES:Community
ORGANIZER;CN="FCCSA":MAILTO:info@firstcolony.org
END:VEVENT
BEGIN:VEVENT
DTSTART;TZID=America/Chicago:20290109T170000
DTEND;TZID=America/Chicago:20290109T180000
DTSTAMP:20260421T120150
CREATED:20260410T163954Z
LAST-MODIFIED:20260410T163954Z
UID:10000610-1862672400-1862676000@www.firstcolony.org
SUMMARY:Special Board Meeting
DESCRIPTION:Special Board Meeting via Zoom
URL:https://www.firstcolony.org/event/special-board-meeting/2029-01-09/
LOCATION:TX
CATEGORIES:Community
ORGANIZER;CN="FCCSA":MAILTO:info@firstcolony.org
END:VEVENT
BEGIN:VEVENT
DTSTART;TZID=America/Chicago:20290125T180000
DTEND;TZID=America/Chicago:20290125T190000
DTSTAMP:20260421T120150
CREATED:20260410T163812Z
LAST-MODIFIED:20260410T163812Z
UID:10000550-1864058400-1864062000@www.firstcolony.org
SUMMARY:Board Meeting
DESCRIPTION:Monthly Board Meeting
URL:https://www.firstcolony.org/event/board-meeting/2029-01-25/
LOCATION:RE/MAX Fine Properties – 3616 Hwy 6\, Sugar Land\, TX 77478\, 3616 Hwy 6\, Sugarland\, 77478\, United States
CATEGORIES:Community
ORGANIZER;CN="FCCSA":MAILTO:info@firstcolony.org
END:VEVENT
BEGIN:VEVENT
DTSTART;TZID=America/Chicago:20290213T170000
DTEND;TZID=America/Chicago:20290213T180000
DTSTAMP:20260421T120150
CREATED:20260410T163954Z
LAST-MODIFIED:20260410T163954Z
UID:10000611-1865696400-1865700000@www.firstcolony.org
SUMMARY:Special Board Meeting
DESCRIPTION:Special Board Meeting via Zoom
URL:https://www.firstcolony.org/event/special-board-meeting/2029-02-13/
LOCATION:TX
CATEGORIES:Community
ORGANIZER;CN="FCCSA":MAILTO:info@firstcolony.org
END:VEVENT
BEGIN:VEVENT
DTSTART;TZID=America/Chicago:20290222T180000
DTEND;TZID=America/Chicago:20290222T190000
DTSTAMP:20260421T120150
CREATED:20260410T163812Z
LAST-MODIFIED:20260410T163812Z
UID:10000551-1866477600-1866481200@www.firstcolony.org
SUMMARY:Board Meeting
DESCRIPTION:Monthly Board Meeting
URL:https://www.firstcolony.org/event/board-meeting/2029-02-22/
LOCATION:RE/MAX Fine Properties – 3616 Hwy 6\, Sugar Land\, TX 77478\, 3616 Hwy 6\, Sugarland\, 77478\, United States
CATEGORIES:Community
ORGANIZER;CN="FCCSA":MAILTO:info@firstcolony.org
END:VEVENT
BEGIN:VEVENT
DTSTART;TZID=America/Chicago:20290313T170000
DTEND;TZID=America/Chicago:20290313T180000
DTSTAMP:20260421T120150
CREATED:20260410T163954Z
LAST-MODIFIED:20260410T163954Z
UID:10000612-1868115600-1868119200@www.firstcolony.org
SUMMARY:Special Board Meeting
DESCRIPTION:Special Board Meeting via Zoom
URL:https://www.firstcolony.org/event/special-board-meeting/2029-03-13/
LOCATION:TX
CATEGORIES:Community
ORGANIZER;CN="FCCSA":MAILTO:info@firstcolony.org
END:VEVENT
BEGIN:VEVENT
DTSTART;TZID=America/Chicago:20290322T180000
DTEND;TZID=America/Chicago:20290322T190000
DTSTAMP:20260421T120150
CREATED:20260410T163812Z
LAST-MODIFIED:20260410T163812Z
UID:10000552-1868896800-1868900400@www.firstcolony.org
SUMMARY:Board Meeting
DESCRIPTION:Monthly Board Meeting
URL:https://www.firstcolony.org/event/board-meeting/2029-03-22/
LOCATION:RE/MAX Fine Properties – 3616 Hwy 6\, Sugar Land\, TX 77478\, 3616 Hwy 6\, Sugarland\, 77478\, United States
CATEGORIES:Community
ORGANIZER;CN="FCCSA":MAILTO:info@firstcolony.org
END:VEVENT
BEGIN:VEVENT
DTSTART;TZID=America/Chicago:20290410T170000
DTEND;TZID=America/Chicago:20290410T180000
DTSTAMP:20260421T120150
CREATED:20260410T163954Z
LAST-MODIFIED:20260410T163954Z
UID:10000613-1870534800-1870538400@www.firstcolony.org
SUMMARY:Special Board Meeting
DESCRIPTION:Special Board Meeting via Zoom
URL:https://www.firstcolony.org/event/special-board-meeting/2029-04-10/
LOCATION:TX
CATEGORIES:Community
ORGANIZER;CN="FCCSA":MAILTO:info@firstcolony.org
END:VEVENT
BEGIN:VEVENT
DTSTART;TZID=America/Chicago:20290426T180000
DTEND;TZID=America/Chicago:20290426T190000
DTSTAMP:20260421T120150
CREATED:20260410T163812Z
LAST-MODIFIED:20260410T163812Z
UID:10000553-1871920800-1871924400@www.firstcolony.org
SUMMARY:Board Meeting
DESCRIPTION:Monthly Board Meeting
URL:https://www.firstcolony.org/event/board-meeting/2029-04-26/
LOCATION:RE/MAX Fine Properties – 3616 Hwy 6\, Sugar Land\, TX 77478\, 3616 Hwy 6\, Sugarland\, 77478\, United States
CATEGORIES:Community
ORGANIZER;CN="FCCSA":MAILTO:info@firstcolony.org
END:VEVENT
BEGIN:VEVENT
DTSTART;TZID=America/Chicago:20290508T170000
DTEND;TZID=America/Chicago:20290508T180000
DTSTAMP:20260421T120151
CREATED:20260410T163954Z
LAST-MODIFIED:20260410T163954Z
UID:10000614-1872954000-1872957600@www.firstcolony.org
SUMMARY:Special Board Meeting
DESCRIPTION:Special Board Meeting via Zoom
URL:https://www.firstcolony.org/event/special-board-meeting/2029-05-08/
LOCATION:TX
CATEGORIES:Community
ORGANIZER;CN="FCCSA":MAILTO:info@firstcolony.org
END:VEVENT
BEGIN:VEVENT
DTSTART;TZID=America/Chicago:20290524T180000
DTEND;TZID=America/Chicago:20290524T190000
DTSTAMP:20260421T120151
CREATED:20260410T163812Z
LAST-MODIFIED:20260410T163812Z
UID:10000554-1874340000-1874343600@www.firstcolony.org
SUMMARY:Board Meeting
DESCRIPTION:Monthly Board Meeting
URL:https://www.firstcolony.org/event/board-meeting/2029-05-24/
LOCATION:RE/MAX Fine Properties – 3616 Hwy 6\, Sugar Land\, TX 77478\, 3616 Hwy 6\, Sugarland\, 77478\, United States
CATEGORIES:Community
ORGANIZER;CN="FCCSA":MAILTO:info@firstcolony.org
END:VEVENT
BEGIN:VEVENT
DTSTART;TZID=America/Chicago:20290612T170000
DTEND;TZID=America/Chicago:20290612T180000
DTSTAMP:20260421T120151
CREATED:20260410T163954Z
LAST-MODIFIED:20260410T163954Z
UID:10000615-1875978000-1875981600@www.firstcolony.org
SUMMARY:Special Board Meeting
DESCRIPTION:Special Board Meeting via Zoom
URL:https://www.firstcolony.org/event/special-board-meeting/2029-06-12/
LOCATION:TX
CATEGORIES:Community
ORGANIZER;CN="FCCSA":MAILTO:info@firstcolony.org
END:VEVENT
BEGIN:VEVENT
DTSTART;TZID=America/Chicago:20290628T180000
DTEND;TZID=America/Chicago:20290628T190000
DTSTAMP:20260421T120151
CREATED:20260410T163812Z
LAST-MODIFIED:20260410T163812Z
UID:10000555-1877364000-1877367600@www.firstcolony.org
SUMMARY:Board Meeting
DESCRIPTION:Monthly Board Meeting
URL:https://www.firstcolony.org/event/board-meeting/2029-06-28/
LOCATION:RE/MAX Fine Properties – 3616 Hwy 6\, Sugar Land\, TX 77478\, 3616 Hwy 6\, Sugarland\, 77478\, United States
CATEGORIES:Community
ORGANIZER;CN="FCCSA":MAILTO:info@firstcolony.org
END:VEVENT
BEGIN:VEVENT
DTSTART;TZID=America/Chicago:20290710T170000
DTEND;TZID=America/Chicago:20290710T180000
DTSTAMP:20260421T120151
CREATED:20260410T163954Z
LAST-MODIFIED:20260410T163954Z
UID:10000616-1878397200-1878400800@www.firstcolony.org
SUMMARY:Special Board Meeting
DESCRIPTION:Special Board Meeting via Zoom
URL:https://www.firstcolony.org/event/special-board-meeting/2029-07-10/
LOCATION:TX
CATEGORIES:Community
ORGANIZER;CN="FCCSA":MAILTO:info@firstcolony.org
END:VEVENT
BEGIN:VEVENT
DTSTART;TZID=America/Chicago:20290726T180000
DTEND;TZID=America/Chicago:20290726T190000
DTSTAMP:20260421T120151
CREATED:20260410T163812Z
LAST-MODIFIED:20260410T163812Z
UID:10000556-1879783200-1879786800@www.firstcolony.org
SUMMARY:Board Meeting
DESCRIPTION:Monthly Board Meeting
URL:https://www.firstcolony.org/event/board-meeting/2029-07-26/
LOCATION:RE/MAX Fine Properties – 3616 Hwy 6\, Sugar Land\, TX 77478\, 3616 Hwy 6\, Sugarland\, 77478\, United States
CATEGORIES:Community
ORGANIZER;CN="FCCSA":MAILTO:info@firstcolony.org
END:VEVENT
BEGIN:VEVENT
DTSTART;TZID=America/Chicago:20290814T170000
DTEND;TZID=America/Chicago:20290814T180000
DTSTAMP:20260421T120151
CREATED:20260410T163954Z
LAST-MODIFIED:20260410T163954Z
UID:10000617-1881421200-1881424800@www.firstcolony.org
SUMMARY:Special Board Meeting
DESCRIPTION:Special Board Meeting via Zoom
URL:https://www.firstcolony.org/event/special-board-meeting/2029-08-14/
LOCATION:TX
CATEGORIES:Community
ORGANIZER;CN="FCCSA":MAILTO:info@firstcolony.org
END:VEVENT
BEGIN:VEVENT
DTSTART;TZID=America/Chicago:20290823T180000
DTEND;TZID=America/Chicago:20290823T190000
DTSTAMP:20260421T120151
CREATED:20260410T163812Z
LAST-MODIFIED:20260410T163812Z
UID:10000557-1882202400-1882206000@www.firstcolony.org
SUMMARY:Board Meeting
DESCRIPTION:Monthly Board Meeting
URL:https://www.firstcolony.org/event/board-meeting/2029-08-23/
LOCATION:RE/MAX Fine Properties – 3616 Hwy 6\, Sugar Land\, TX 77478\, 3616 Hwy 6\, Sugarland\, 77478\, United States
CATEGORIES:Community
ORGANIZER;CN="FCCSA":MAILTO:info@firstcolony.org
END:VEVENT
BEGIN:VEVENT
DTSTART;TZID=America/Chicago:20290911T170000
DTEND;TZID=America/Chicago:20290911T180000
DTSTAMP:20260421T120151
CREATED:20260410T163954Z
LAST-MODIFIED:20260410T163954Z
UID:10000618-1883840400-1883844000@www.firstcolony.org
SUMMARY:Special Board Meeting
DESCRIPTION:Special Board Meeting via Zoom
URL:https://www.firstcolony.org/event/special-board-meeting/2029-09-11/
LOCATION:TX
CATEGORIES:Community
ORGANIZER;CN="FCCSA":MAILTO:info@firstcolony.org
END:VEVENT
BEGIN:VEVENT
DTSTART;TZID=America/Chicago:20290927T180000
DTEND;TZID=America/Chicago:20290927T190000
DTSTAMP:20260421T120151
CREATED:20260410T163812Z
LAST-MODIFIED:20260410T163812Z
UID:10000558-1885226400-1885230000@www.firstcolony.org
SUMMARY:Board Meeting
DESCRIPTION:Monthly Board Meeting
URL:https://www.firstcolony.org/event/board-meeting/2029-09-27/
LOCATION:RE/MAX Fine Properties – 3616 Hwy 6\, Sugar Land\, TX 77478\, 3616 Hwy 6\, Sugarland\, 77478\, United States
CATEGORIES:Community
ORGANIZER;CN="FCCSA":MAILTO:info@firstcolony.org
END:VEVENT
BEGIN:VEVENT
DTSTART;TZID=America/Chicago:20291009T170000
DTEND;TZID=America/Chicago:20291009T180000
DTSTAMP:20260421T120151
CREATED:20260410T163954Z
LAST-MODIFIED:20260410T163954Z
UID:10000619-1886259600-1886263200@www.firstcolony.org
SUMMARY:Special Board Meeting
DESCRIPTION:Special Board Meeting via Zoom
URL:https://www.firstcolony.org/event/special-board-meeting/2029-10-09/
LOCATION:TX
CATEGORIES:Community
ORGANIZER;CN="FCCSA":MAILTO:info@firstcolony.org
END:VEVENT
BEGIN:VEVENT
DTSTART;TZID=America/Chicago:20291025T180000
DTEND;TZID=America/Chicago:20291025T190000
DTSTAMP:20260421T120151
CREATED:20260410T163812Z
LAST-MODIFIED:20260410T163812Z
UID:10000559-1887645600-1887649200@www.firstcolony.org
SUMMARY:Board Meeting
DESCRIPTION:Monthly Board Meeting
URL:https://www.firstcolony.org/event/board-meeting/2029-10-25/
LOCATION:RE/MAX Fine Properties – 3616 Hwy 6\, Sugar Land\, TX 77478\, 3616 Hwy 6\, Sugarland\, 77478\, United States
CATEGORIES:Community
ORGANIZER;CN="FCCSA":MAILTO:info@firstcolony.org
END:VEVENT
BEGIN:VEVENT
DTSTART;TZID=America/Chicago:20291113T170000
DTEND;TZID=America/Chicago:20291113T180000
DTSTAMP:20260421T120151
CREATED:20260410T163954Z
LAST-MODIFIED:20260410T163954Z
UID:10000620-1889283600-1889287200@www.firstcolony.org
SUMMARY:Special Board Meeting
DESCRIPTION:Special Board Meeting via Zoom
URL:https://www.firstcolony.org/event/special-board-meeting/2029-11-13/
LOCATION:TX
CATEGORIES:Community
ORGANIZER;CN="FCCSA":MAILTO:info@firstcolony.org
END:VEVENT
END:VCALENDAR