BEGIN:VCALENDAR
VERSION:2.0
PRODID:-//First Colony CSA - ECPv6.15.20//NONSGML v1.0//EN
CALSCALE:GREGORIAN
METHOD:PUBLISH
X-ORIGINAL-URL:https://www.firstcolony.org
X-WR-CALDESC:Events for First Colony CSA
REFRESH-INTERVAL;VALUE=DURATION:PT1H
X-Robots-Tag:noindex
X-PUBLISHED-TTL:PT1H
BEGIN:VTIMEZONE
TZID:America/Chicago
BEGIN:DAYLIGHT
TZOFFSETFROM:-0600
TZOFFSETTO:-0500
TZNAME:CDT
DTSTART:20260308T080000
END:DAYLIGHT
BEGIN:STANDARD
TZOFFSETFROM:-0500
TZOFFSETTO:-0600
TZNAME:CST
DTSTART:20261101T070000
END:STANDARD
BEGIN:DAYLIGHT
TZOFFSETFROM:-0600
TZOFFSETTO:-0500
TZNAME:CDT
DTSTART:20270314T080000
END:DAYLIGHT
BEGIN:STANDARD
TZOFFSETFROM:-0500
TZOFFSETTO:-0600
TZNAME:CST
DTSTART:20271107T070000
END:STANDARD
BEGIN:DAYLIGHT
TZOFFSETFROM:-0600
TZOFFSETTO:-0500
TZNAME:CDT
DTSTART:20280312T080000
END:DAYLIGHT
BEGIN:STANDARD
TZOFFSETFROM:-0500
TZOFFSETTO:-0600
TZNAME:CST
DTSTART:20281105T070000
END:STANDARD
BEGIN:DAYLIGHT
TZOFFSETFROM:-0600
TZOFFSETTO:-0500
TZNAME:CDT
DTSTART:20290311T080000
END:DAYLIGHT
BEGIN:STANDARD
TZOFFSETFROM:-0500
TZOFFSETTO:-0600
TZNAME:CST
DTSTART:20291104T070000
END:STANDARD
BEGIN:DAYLIGHT
TZOFFSETFROM:-0600
TZOFFSETTO:-0500
TZNAME:CDT
DTSTART:20300310T080000
END:DAYLIGHT
BEGIN:STANDARD
TZOFFSETFROM:-0500
TZOFFSETTO:-0600
TZNAME:CST
DTSTART:20301103T070000
END:STANDARD
END:VTIMEZONE
BEGIN:VEVENT
DTSTART;TZID=America/Chicago:20271125T180000
DTEND;TZID=America/Chicago:20271125T190000
DTSTAMP:20260422T164821
CREATED:20260410T163812Z
LAST-MODIFIED:20260410T163812Z
UID:10000536-1827165600-1827169200@www.firstcolony.org
SUMMARY:Board Meeting
DESCRIPTION:Monthly Board Meeting
URL:https://www.firstcolony.org/event/board-meeting/2027-11-25/
LOCATION:RE/MAX Fine Properties – 3616 Hwy 6\, Sugar Land\, TX 77478\, 3616 Hwy 6\, Sugarland\, 77478\, United States
CATEGORIES:Community
ORGANIZER;CN="FCCSA":MAILTO:info@firstcolony.org
END:VEVENT
BEGIN:VEVENT
DTSTART;TZID=America/Chicago:20271214T170000
DTEND;TZID=America/Chicago:20271214T180000
DTSTAMP:20260422T164821
CREATED:20260410T163954Z
LAST-MODIFIED:20260410T163954Z
UID:10000597-1828803600-1828807200@www.firstcolony.org
SUMMARY:Special Board Meeting
DESCRIPTION:Special Board Meeting via Zoom
URL:https://www.firstcolony.org/event/special-board-meeting/2027-12-14/
LOCATION:TX
CATEGORIES:Community
ORGANIZER;CN="FCCSA":MAILTO:info@firstcolony.org
END:VEVENT
BEGIN:VEVENT
DTSTART;TZID=America/Chicago:20271223T180000
DTEND;TZID=America/Chicago:20271223T190000
DTSTAMP:20260422T164821
CREATED:20260410T163812Z
LAST-MODIFIED:20260410T163812Z
UID:10000537-1829584800-1829588400@www.firstcolony.org
SUMMARY:Board Meeting
DESCRIPTION:Monthly Board Meeting
URL:https://www.firstcolony.org/event/board-meeting/2027-12-23/
LOCATION:RE/MAX Fine Properties – 3616 Hwy 6\, Sugar Land\, TX 77478\, 3616 Hwy 6\, Sugarland\, 77478\, United States
CATEGORIES:Community
ORGANIZER;CN="FCCSA":MAILTO:info@firstcolony.org
END:VEVENT
BEGIN:VEVENT
DTSTART;TZID=America/Chicago:20280111T170000
DTEND;TZID=America/Chicago:20280111T180000
DTSTAMP:20260422T164821
CREATED:20260410T163954Z
LAST-MODIFIED:20260410T163954Z
UID:10000598-1831222800-1831226400@www.firstcolony.org
SUMMARY:Special Board Meeting
DESCRIPTION:Special Board Meeting via Zoom
URL:https://www.firstcolony.org/event/special-board-meeting/2028-01-11/
LOCATION:TX
CATEGORIES:Community
ORGANIZER;CN="FCCSA":MAILTO:info@firstcolony.org
END:VEVENT
BEGIN:VEVENT
DTSTART;TZID=America/Chicago:20280127T180000
DTEND;TZID=America/Chicago:20280127T190000
DTSTAMP:20260422T164821
CREATED:20260410T163812Z
LAST-MODIFIED:20260410T163812Z
UID:10000538-1832608800-1832612400@www.firstcolony.org
SUMMARY:Board Meeting
DESCRIPTION:Monthly Board Meeting
URL:https://www.firstcolony.org/event/board-meeting/2028-01-27/
LOCATION:RE/MAX Fine Properties – 3616 Hwy 6\, Sugar Land\, TX 77478\, 3616 Hwy 6\, Sugarland\, 77478\, United States
CATEGORIES:Community
ORGANIZER;CN="FCCSA":MAILTO:info@firstcolony.org
END:VEVENT
BEGIN:VEVENT
DTSTART;TZID=America/Chicago:20280208T170000
DTEND;TZID=America/Chicago:20280208T180000
DTSTAMP:20260422T164821
CREATED:20260410T163954Z
LAST-MODIFIED:20260410T163954Z
UID:10000599-1833642000-1833645600@www.firstcolony.org
SUMMARY:Special Board Meeting
DESCRIPTION:Special Board Meeting via Zoom
URL:https://www.firstcolony.org/event/special-board-meeting/2028-02-08/
LOCATION:TX
CATEGORIES:Community
ORGANIZER;CN="FCCSA":MAILTO:info@firstcolony.org
END:VEVENT
BEGIN:VEVENT
DTSTART;TZID=America/Chicago:20280224T180000
DTEND;TZID=America/Chicago:20280224T190000
DTSTAMP:20260422T164821
CREATED:20260410T163812Z
LAST-MODIFIED:20260410T163812Z
UID:10000539-1835028000-1835031600@www.firstcolony.org
SUMMARY:Board Meeting
DESCRIPTION:Monthly Board Meeting
URL:https://www.firstcolony.org/event/board-meeting/2028-02-24/
LOCATION:RE/MAX Fine Properties – 3616 Hwy 6\, Sugar Land\, TX 77478\, 3616 Hwy 6\, Sugarland\, 77478\, United States
CATEGORIES:Community
ORGANIZER;CN="FCCSA":MAILTO:info@firstcolony.org
END:VEVENT
BEGIN:VEVENT
DTSTART;TZID=America/Chicago:20280314T170000
DTEND;TZID=America/Chicago:20280314T180000
DTSTAMP:20260422T164821
CREATED:20260410T163954Z
LAST-MODIFIED:20260410T163954Z
UID:10000600-1836666000-1836669600@www.firstcolony.org
SUMMARY:Special Board Meeting
DESCRIPTION:Special Board Meeting via Zoom
URL:https://www.firstcolony.org/event/special-board-meeting/2028-03-14/
LOCATION:TX
CATEGORIES:Community
ORGANIZER;CN="FCCSA":MAILTO:info@firstcolony.org
END:VEVENT
BEGIN:VEVENT
DTSTART;TZID=America/Chicago:20280323T180000
DTEND;TZID=America/Chicago:20280323T190000
DTSTAMP:20260422T164821
CREATED:20260410T163812Z
LAST-MODIFIED:20260410T163812Z
UID:10000540-1837447200-1837450800@www.firstcolony.org
SUMMARY:Board Meeting
DESCRIPTION:Monthly Board Meeting
URL:https://www.firstcolony.org/event/board-meeting/2028-03-23/
LOCATION:RE/MAX Fine Properties – 3616 Hwy 6\, Sugar Land\, TX 77478\, 3616 Hwy 6\, Sugarland\, 77478\, United States
CATEGORIES:Community
ORGANIZER;CN="FCCSA":MAILTO:info@firstcolony.org
END:VEVENT
BEGIN:VEVENT
DTSTART;TZID=America/Chicago:20280411T170000
DTEND;TZID=America/Chicago:20280411T180000
DTSTAMP:20260422T164821
CREATED:20260410T163954Z
LAST-MODIFIED:20260410T163954Z
UID:10000601-1839085200-1839088800@www.firstcolony.org
SUMMARY:Special Board Meeting
DESCRIPTION:Special Board Meeting via Zoom
URL:https://www.firstcolony.org/event/special-board-meeting/2028-04-11/
LOCATION:TX
CATEGORIES:Community
ORGANIZER;CN="FCCSA":MAILTO:info@firstcolony.org
END:VEVENT
BEGIN:VEVENT
DTSTART;TZID=America/Chicago:20280427T180000
DTEND;TZID=America/Chicago:20280427T190000
DTSTAMP:20260422T164821
CREATED:20260410T163812Z
LAST-MODIFIED:20260410T163812Z
UID:10000541-1840471200-1840474800@www.firstcolony.org
SUMMARY:Board Meeting
DESCRIPTION:Monthly Board Meeting
URL:https://www.firstcolony.org/event/board-meeting/2028-04-27/
LOCATION:RE/MAX Fine Properties – 3616 Hwy 6\, Sugar Land\, TX 77478\, 3616 Hwy 6\, Sugarland\, 77478\, United States
CATEGORIES:Community
ORGANIZER;CN="FCCSA":MAILTO:info@firstcolony.org
END:VEVENT
BEGIN:VEVENT
DTSTART;TZID=America/Chicago:20280509T170000
DTEND;TZID=America/Chicago:20280509T180000
DTSTAMP:20260422T164821
CREATED:20260410T163954Z
LAST-MODIFIED:20260410T163954Z
UID:10000602-1841504400-1841508000@www.firstcolony.org
SUMMARY:Special Board Meeting
DESCRIPTION:Special Board Meeting via Zoom
URL:https://www.firstcolony.org/event/special-board-meeting/2028-05-09/
LOCATION:TX
CATEGORIES:Community
ORGANIZER;CN="FCCSA":MAILTO:info@firstcolony.org
END:VEVENT
BEGIN:VEVENT
DTSTART;TZID=America/Chicago:20280525T180000
DTEND;TZID=America/Chicago:20280525T190000
DTSTAMP:20260422T164821
CREATED:20260410T163812Z
LAST-MODIFIED:20260410T163812Z
UID:10000542-1842890400-1842894000@www.firstcolony.org
SUMMARY:Board Meeting
DESCRIPTION:Monthly Board Meeting
URL:https://www.firstcolony.org/event/board-meeting/2028-05-25/
LOCATION:RE/MAX Fine Properties – 3616 Hwy 6\, Sugar Land\, TX 77478\, 3616 Hwy 6\, Sugarland\, 77478\, United States
CATEGORIES:Community
ORGANIZER;CN="FCCSA":MAILTO:info@firstcolony.org
END:VEVENT
BEGIN:VEVENT
DTSTART;TZID=America/Chicago:20280613T170000
DTEND;TZID=America/Chicago:20280613T180000
DTSTAMP:20260422T164821
CREATED:20260410T163954Z
LAST-MODIFIED:20260410T163954Z
UID:10000603-1844528400-1844532000@www.firstcolony.org
SUMMARY:Special Board Meeting
DESCRIPTION:Special Board Meeting via Zoom
URL:https://www.firstcolony.org/event/special-board-meeting/2028-06-13/
LOCATION:TX
CATEGORIES:Community
ORGANIZER;CN="FCCSA":MAILTO:info@firstcolony.org
END:VEVENT
BEGIN:VEVENT
DTSTART;TZID=America/Chicago:20280622T180000
DTEND;TZID=America/Chicago:20280622T190000
DTSTAMP:20260422T164821
CREATED:20260410T163812Z
LAST-MODIFIED:20260410T163812Z
UID:10000543-1845309600-1845313200@www.firstcolony.org
SUMMARY:Board Meeting
DESCRIPTION:Monthly Board Meeting
URL:https://www.firstcolony.org/event/board-meeting/2028-06-22/
LOCATION:RE/MAX Fine Properties – 3616 Hwy 6\, Sugar Land\, TX 77478\, 3616 Hwy 6\, Sugarland\, 77478\, United States
CATEGORIES:Community
ORGANIZER;CN="FCCSA":MAILTO:info@firstcolony.org
END:VEVENT
BEGIN:VEVENT
DTSTART;TZID=America/Chicago:20280711T170000
DTEND;TZID=America/Chicago:20280711T180000
DTSTAMP:20260422T164821
CREATED:20260410T163954Z
LAST-MODIFIED:20260410T163954Z
UID:10000604-1846947600-1846951200@www.firstcolony.org
SUMMARY:Special Board Meeting
DESCRIPTION:Special Board Meeting via Zoom
URL:https://www.firstcolony.org/event/special-board-meeting/2028-07-11/
LOCATION:TX
CATEGORIES:Community
ORGANIZER;CN="FCCSA":MAILTO:info@firstcolony.org
END:VEVENT
BEGIN:VEVENT
DTSTART;TZID=America/Chicago:20280727T180000
DTEND;TZID=America/Chicago:20280727T190000
DTSTAMP:20260422T164821
CREATED:20260410T163812Z
LAST-MODIFIED:20260410T163812Z
UID:10000544-1848333600-1848337200@www.firstcolony.org
SUMMARY:Board Meeting
DESCRIPTION:Monthly Board Meeting
URL:https://www.firstcolony.org/event/board-meeting/2028-07-27/
LOCATION:RE/MAX Fine Properties – 3616 Hwy 6\, Sugar Land\, TX 77478\, 3616 Hwy 6\, Sugarland\, 77478\, United States
CATEGORIES:Community
ORGANIZER;CN="FCCSA":MAILTO:info@firstcolony.org
END:VEVENT
BEGIN:VEVENT
DTSTART;TZID=America/Chicago:20280808T170000
DTEND;TZID=America/Chicago:20280808T180000
DTSTAMP:20260422T164821
CREATED:20260410T163954Z
LAST-MODIFIED:20260410T163954Z
UID:10000605-1849366800-1849370400@www.firstcolony.org
SUMMARY:Special Board Meeting
DESCRIPTION:Special Board Meeting via Zoom
URL:https://www.firstcolony.org/event/special-board-meeting/2028-08-08/
LOCATION:TX
CATEGORIES:Community
ORGANIZER;CN="FCCSA":MAILTO:info@firstcolony.org
END:VEVENT
BEGIN:VEVENT
DTSTART;TZID=America/Chicago:20280824T180000
DTEND;TZID=America/Chicago:20280824T190000
DTSTAMP:20260422T164821
CREATED:20260410T163812Z
LAST-MODIFIED:20260410T163812Z
UID:10000545-1850752800-1850756400@www.firstcolony.org
SUMMARY:Board Meeting
DESCRIPTION:Monthly Board Meeting
URL:https://www.firstcolony.org/event/board-meeting/2028-08-24/
LOCATION:RE/MAX Fine Properties – 3616 Hwy 6\, Sugar Land\, TX 77478\, 3616 Hwy 6\, Sugarland\, 77478\, United States
CATEGORIES:Community
ORGANIZER;CN="FCCSA":MAILTO:info@firstcolony.org
END:VEVENT
BEGIN:VEVENT
DTSTART;TZID=America/Chicago:20280912T170000
DTEND;TZID=America/Chicago:20280912T180000
DTSTAMP:20260422T164821
CREATED:20260410T163954Z
LAST-MODIFIED:20260410T163954Z
UID:10000606-1852390800-1852394400@www.firstcolony.org
SUMMARY:Special Board Meeting
DESCRIPTION:Special Board Meeting via Zoom
URL:https://www.firstcolony.org/event/special-board-meeting/2028-09-12/
LOCATION:TX
CATEGORIES:Community
ORGANIZER;CN="FCCSA":MAILTO:info@firstcolony.org
END:VEVENT
BEGIN:VEVENT
DTSTART;TZID=America/Chicago:20280928T180000
DTEND;TZID=America/Chicago:20280928T190000
DTSTAMP:20260422T164821
CREATED:20260410T163812Z
LAST-MODIFIED:20260410T163812Z
UID:10000546-1853776800-1853780400@www.firstcolony.org
SUMMARY:Board Meeting
DESCRIPTION:Monthly Board Meeting
URL:https://www.firstcolony.org/event/board-meeting/2028-09-28/
LOCATION:RE/MAX Fine Properties – 3616 Hwy 6\, Sugar Land\, TX 77478\, 3616 Hwy 6\, Sugarland\, 77478\, United States
CATEGORIES:Community
ORGANIZER;CN="FCCSA":MAILTO:info@firstcolony.org
END:VEVENT
BEGIN:VEVENT
DTSTART;TZID=America/Chicago:20281010T170000
DTEND;TZID=America/Chicago:20281010T180000
DTSTAMP:20260422T164821
CREATED:20260410T163954Z
LAST-MODIFIED:20260410T163954Z
UID:10000607-1854810000-1854813600@www.firstcolony.org
SUMMARY:Special Board Meeting
DESCRIPTION:Special Board Meeting via Zoom
URL:https://www.firstcolony.org/event/special-board-meeting/2028-10-10/
LOCATION:TX
CATEGORIES:Community
ORGANIZER;CN="FCCSA":MAILTO:info@firstcolony.org
END:VEVENT
BEGIN:VEVENT
DTSTART;TZID=America/Chicago:20281026T180000
DTEND;TZID=America/Chicago:20281026T190000
DTSTAMP:20260422T164821
CREATED:20260410T163812Z
LAST-MODIFIED:20260410T163812Z
UID:10000547-1856196000-1856199600@www.firstcolony.org
SUMMARY:Board Meeting
DESCRIPTION:Monthly Board Meeting
URL:https://www.firstcolony.org/event/board-meeting/2028-10-26/
LOCATION:RE/MAX Fine Properties – 3616 Hwy 6\, Sugar Land\, TX 77478\, 3616 Hwy 6\, Sugarland\, 77478\, United States
CATEGORIES:Community
ORGANIZER;CN="FCCSA":MAILTO:info@firstcolony.org
END:VEVENT
BEGIN:VEVENT
DTSTART;TZID=America/Chicago:20281114T170000
DTEND;TZID=America/Chicago:20281114T180000
DTSTAMP:20260422T164821
CREATED:20260410T163954Z
LAST-MODIFIED:20260410T163954Z
UID:10000608-1857834000-1857837600@www.firstcolony.org
SUMMARY:Special Board Meeting
DESCRIPTION:Special Board Meeting via Zoom
URL:https://www.firstcolony.org/event/special-board-meeting/2028-11-14/
LOCATION:TX
CATEGORIES:Community
ORGANIZER;CN="FCCSA":MAILTO:info@firstcolony.org
END:VEVENT
BEGIN:VEVENT
DTSTART;TZID=America/Chicago:20281123T180000
DTEND;TZID=America/Chicago:20281123T190000
DTSTAMP:20260422T164821
CREATED:20260410T163812Z
LAST-MODIFIED:20260410T163812Z
UID:10000548-1858615200-1858618800@www.firstcolony.org
SUMMARY:Board Meeting
DESCRIPTION:Monthly Board Meeting
URL:https://www.firstcolony.org/event/board-meeting/2028-11-23/
LOCATION:RE/MAX Fine Properties – 3616 Hwy 6\, Sugar Land\, TX 77478\, 3616 Hwy 6\, Sugarland\, 77478\, United States
CATEGORIES:Community
ORGANIZER;CN="FCCSA":MAILTO:info@firstcolony.org
END:VEVENT
BEGIN:VEVENT
DTSTART;TZID=America/Chicago:20281212T170000
DTEND;TZID=America/Chicago:20281212T180000
DTSTAMP:20260422T164821
CREATED:20260410T163954Z
LAST-MODIFIED:20260410T163954Z
UID:10000609-1860253200-1860256800@www.firstcolony.org
SUMMARY:Special Board Meeting
DESCRIPTION:Special Board Meeting via Zoom
URL:https://www.firstcolony.org/event/special-board-meeting/2028-12-12/
LOCATION:TX
CATEGORIES:Community
ORGANIZER;CN="FCCSA":MAILTO:info@firstcolony.org
END:VEVENT
BEGIN:VEVENT
DTSTART;TZID=America/Chicago:20281228T180000
DTEND;TZID=America/Chicago:20281228T190000
DTSTAMP:20260422T164821
CREATED:20260410T163812Z
LAST-MODIFIED:20260410T163812Z
UID:10000549-1861639200-1861642800@www.firstcolony.org
SUMMARY:Board Meeting
DESCRIPTION:Monthly Board Meeting
URL:https://www.firstcolony.org/event/board-meeting/2028-12-28/
LOCATION:RE/MAX Fine Properties – 3616 Hwy 6\, Sugar Land\, TX 77478\, 3616 Hwy 6\, Sugarland\, 77478\, United States
CATEGORIES:Community
ORGANIZER;CN="FCCSA":MAILTO:info@firstcolony.org
END:VEVENT
BEGIN:VEVENT
DTSTART;TZID=America/Chicago:20290109T170000
DTEND;TZID=America/Chicago:20290109T180000
DTSTAMP:20260422T164821
CREATED:20260410T163954Z
LAST-MODIFIED:20260410T163954Z
UID:10000610-1862672400-1862676000@www.firstcolony.org
SUMMARY:Special Board Meeting
DESCRIPTION:Special Board Meeting via Zoom
URL:https://www.firstcolony.org/event/special-board-meeting/2029-01-09/
LOCATION:TX
CATEGORIES:Community
ORGANIZER;CN="FCCSA":MAILTO:info@firstcolony.org
END:VEVENT
BEGIN:VEVENT
DTSTART;TZID=America/Chicago:20290125T180000
DTEND;TZID=America/Chicago:20290125T190000
DTSTAMP:20260422T164821
CREATED:20260410T163812Z
LAST-MODIFIED:20260410T163812Z
UID:10000550-1864058400-1864062000@www.firstcolony.org
SUMMARY:Board Meeting
DESCRIPTION:Monthly Board Meeting
URL:https://www.firstcolony.org/event/board-meeting/2029-01-25/
LOCATION:RE/MAX Fine Properties – 3616 Hwy 6\, Sugar Land\, TX 77478\, 3616 Hwy 6\, Sugarland\, 77478\, United States
CATEGORIES:Community
ORGANIZER;CN="FCCSA":MAILTO:info@firstcolony.org
END:VEVENT
BEGIN:VEVENT
DTSTART;TZID=America/Chicago:20290213T170000
DTEND;TZID=America/Chicago:20290213T180000
DTSTAMP:20260422T164821
CREATED:20260410T163954Z
LAST-MODIFIED:20260410T163954Z
UID:10000611-1865696400-1865700000@www.firstcolony.org
SUMMARY:Special Board Meeting
DESCRIPTION:Special Board Meeting via Zoom
URL:https://www.firstcolony.org/event/special-board-meeting/2029-02-13/
LOCATION:TX
CATEGORIES:Community
ORGANIZER;CN="FCCSA":MAILTO:info@firstcolony.org
END:VEVENT
END:VCALENDAR